BEGIN:VCALENDAR
VERSION:2.0
PRODID:Events Booking
BEGIN:VEVENT
UID:69eafc47cf11e
SUMMARY:5. Lauf der RSN 2026 am 29.08.2026 beim RC Racing Club Spremberg e.
 V.
DESCRIPTION:Nennzeitraum nicht Mitglieder vom 12.08.2026 20:00Uhr
 Freies 
 Training ist je nach Verein schon am Freitag möglich.
 Die Zeiten entneh
 mt Ihr Bitte der Ankündigung des jeweiligen Vereins
LOCATION:Drebkauer Str. 9B\, 03130 Spremberg
DTSTART:20260829T060000Z
DTEND:20260829T180000Z
DTSTAMP:20260424T071447Z
ORGANIZER;CN=Rennserie Nord e.V.:MAILTO:info@rsn-ev.de
GEO:51.585555;14.328042
X-APPLE-STRUCTURED-LOCATION;VALUE=URI;X-ADDRESS=Drebkauer Str. 9B\, 03130 S
 premberg;X-APPLE-RADIUS=72;X-TITLE=RC Spremberg e.V.:51.585555;14.328042
END:VEVENT
END:VCALENDAR